BEGIN:VCALENDAR
VERSION:2.0
PRODID:-//Tukios.com/
BEGIN:VEVENT
UID:e13cee5c-951e-450e-871b-d1da2982bc57@www.swedberg-taylor.com
DTSTAMP:20260421T205805Z
DTSTART:20260502T160000Z
DTEND:20260502T210000Z
SUMMARY:Celebration of Life
DESCRIPTION:
URL:https://www.swedberg-taylor.com/obituaries/mary-smith
LOCATION:Tim’s Black and Orange 26530 Lakeland Avenue North  Webster WI 
	54893
GEO:45.8787461;-92.3635278
END:VEVENT
END:VCALENDAR