BEGIN:VCALENDAR
VERSION:2.0
PRODID:-//Tukios.com/
BEGIN:VEVENT
UID:a5dab388-df82-4ab0-ba19-ecd7ccc54675@www.swedberg-taylor.com
DTSTAMP:20260421T235844Z
DTSTART:20260516T180000Z
DTEND:20260516T190000Z
SUMMARY:Celebration of Life
DESCRIPTION:
URL:https://www.swedberg-taylor.com/obituaries/james-stenberg
LOCATION:South Fork Sporting Club 3537 78th Street  Frederic WI 54837
GEO:45.71731;-92.322345
END:VEVENT
END:VCALENDAR