BEGIN:VCALENDAR
VERSION:2.0
PRODID:-//Tukios.com/
BEGIN:VEVENT
UID:20a7687d-62e6-46e7-bbb9-bea92a31aeb4@www.swedberg-taylor.com
DTSTAMP:20260421T212812Z
DTSTART:20260518T190000Z
DTEND:20260518T200000Z
SUMMARY:Celebration of Life
DESCRIPTION:
URL:https://www.swedberg-taylor.com/obituaries/gina-barton
LOCATION: 1116 Angelo Road, Sparta WI 54656  Sparta WI 54656
GEO:43.9551397;-90.7967496
END:VEVENT
END:VCALENDAR