BEGIN:VCALENDAR
VERSION:2.0
PRODID:-//Tukios.com/
BEGIN:VEVENT
UID:c0ab289d-4fa6-4a0c-b108-471fa089d2b8@www.swedberg-taylor.com
DTSTAMP:20260421T213321Z
DTSTART:20260518T180000Z
DTEND:20260518T190000Z
SUMMARY:Visitation
DESCRIPTION:
URL:https://www.swedberg-taylor.com/obituaries/gina-barton
LOCATION:Sparta American Legion Post #100 1116 Angelo Road, Sparta WI 
	54656  Sparta WI 54656
GEO:43.9551397;-90.7967496
END:VEVENT
END:VCALENDAR