BEGIN:VCALENDAR
VERSION:2.0
PRODID:-//Tukios.com/
BEGIN:VEVENT
UID:1fe6bb70-8425-4c22-9eea-07835c8a72e0@www.swedberg-taylor.com
DTSTAMP:20260423T193255Z
DTSTART:20260429T210000Z
DTEND:20260429T230000Z
SUMMARY:Celebration of Life
DESCRIPTION:
URL:https://www.swedberg-taylor.com/obituaries/catherine-leavitt
LOCATION:Olson Funeral Chapel 115 W 4th St  Rush City MN 55069
GEO:45.6850192;-92.9627029
END:VEVENT
END:VCALENDAR