BEGIN:VCALENDAR
VERSION:2.0
PRODID:-//Tukios.com/
BEGIN:VEVENT
UID:6a3b7f5a-fc0d-4c92-8b59-7b756d13938b@www.swedberg-taylor.com
DTSTAMP:20260420T181103Z
DTSTART:20260422T160000Z
DTEND:20260422T170000Z
SUMMARY:Funeral Service
DESCRIPTION:
URL:https://www.swedberg-taylor.com/obituaries/billie-blume
LOCATION: 23985 Wisconsin 35  Siren WI 54872
GEO:45.78373;-92.381635
END:VEVENT
END:VCALENDAR