BEGIN:VCALENDAR
VERSION:2.0
PRODID:-//Tukios.com/
BEGIN:VEVENT
UID:6e98da8d-4723-4ca0-88cf-4889c7b978b0@www.swedberg-taylor.com
DTSTAMP:20260420T180621Z
DTSTART:20260422T150000Z
DTEND:20260422T160000Z
SUMMARY:Visitation
DESCRIPTION:
URL:https://www.swedberg-taylor.com/obituaries/billie-blume
LOCATION: 23811 Wisconsin 35  Siren WI 54872
GEO:45.784057;-92.3814611
END:VEVENT
END:VCALENDAR